View In:
ArcGIS JavaScript
ArcGIS Online Map Viewer
ArcGIS Earth
ArcMap
View Footprint In:
ArcGIS Online Map Viewer
Service Description: 2015 aerial data collection
Name: BaseData/Peoria_Aerial_2015
Description: 2015 aerial data collection
Single Fused Map Cache: true
Tile Info:
- Height: 256
- Width: 256
- DPI: 96
-
Levels of Detail: 10
- Format: MIXED
- Compression Quality: 75.0
- LERC Error: NaN
- Origin: X: -1.61509E7
Y: 1.9495399999999993E7
- Spatial Reference: 3444
(3444)
VCSWkid(5703)
LatestVCSWkid(5703)
Storage Info:
- Storage Format: esriMapCacheStorageModeCompactV2
- Packet Size: 128
Extent:
XMin: 2342836.4999999995
YMin: 1395185.9999999984
XMax: 2499478.000000001
YMax: 1572096.0000000005
Spatial Reference: 3444
(3444)
VCSWkid(5703)
LatestVCSWkid(5703)
Initial Extent:
XMin: 2342836.4999999995
YMin: 1395185.9999999984
XMax: 2499478.000000001
YMax: 1572096.0000000005
Spatial Reference: 3444
(3444)
VCSWkid(5703)
LatestVCSWkid(5703)
Full Extent:
XMin: 2342836.4999999995
YMin: 1395185.9999999984
XMax: 2499478.000000001
YMax: 1572096.0000000005
Spatial Reference: 3444
(3444)
VCSWkid(5703)
LatestVCSWkid(5703)
Pixel Size X: 0.5
Pixel Size Y: 0.5
Band Count: 3
Pixel Type: U8
RasterFunction Infos: {"rasterFunctionInfos": [{
"name": "None",
"description": "",
"help": ""
}]}
Mensuration Capabilities: Basic
Has Histograms: true
Has Colormap: false
Has Multi Dimensions : false
Rendering Rule:
Min Scale: 250000
Max Scale: 500
Copyright Text: Peoria County, Tri-County, GPSD
Service Data Type: esriImageServiceDataTypeRGB
Min Values: 20, 29, 35
Max Values: 255, 255, 255
Mean Values: 162.14912673533, 162.97462307807, 159.77981788327
Standard Deviation Values: 64.096601997134, 63.277231402934, 64.700751360841
Object ID Field:
Fields:
None
Default Mosaic Method: Center
Allowed Mosaic Methods:
SortField:
SortValue: null
Mosaic Operator: First
Default Compression Quality: 75
Default Resampling Method: Bilinear
Max Record Count: null
Max Image Height: 4100
Max Image Width: 15000
Max Download Image Count: null
Max Mosaic Image Count: null
Allow Raster Function: true
Allow Copy: true
Allow Analysis: true
Allow Compute TiePoints: false
Supports Statistics: false
Supports Advanced Queries: false
Use StandardizedQueries: true
Raster Type Infos:
Name: Raster Dataset
Description: Supports all ArcGIS Raster Datasets
Help:
Has Raster Attribute Table: false
Edit Fields Info: null
Ownership Based AccessControl For Rasters: null
Child Resources:
Info
Histograms
Statistics
Key Properties
Legend
Raster Function Infos
Supported Operations:
Export Image
Identify
Measure
Compute Histograms
Compute Statistics Histograms
Get Samples
Compute Class Statistics
Query Boundary
Compute Pixel Location
Compute Angles
Validate
Project