View In:
ArcGIS JavaScript
ArcGIS Online Map Viewer
ArcGIS Earth
ArcMap
ArcGIS Pro
View Footprint In:
ArcGIS Online Map Viewer
Service Description: Provides a consumer representation of parcel information that can be used with infrastructure and parcel information. The layers in the map provide context for multiple workflows, such as editing data or producing web maps. Includes structures, roads, major facilities and landmarks, water features, parcels, addresses and boundaries. This basemap uses design elements found in the General Purpose basemap but adds additional content at larger scales.
Map Name: BaseMap
Legend
All Layers and Tables
Layers:
Description: Provides a consumer representation of parcel information that can be used with infrastructure and parcel information. The layers in the map provide context for multiple workflows, such as editing data or producing web maps. Includes structures, roads, major facilities and landmarks, water features, parcels, addresses and boundaries. This basemap uses design elements found in the General Purpose basemap but adds additional content at larger scales.
Service Item Id: 3d5e85f396f043f0a909c879cedf48bc
Copyright Text: Esri., Inc., City of Peoria, Illinois
Spatial Reference:
102672
(3436)
LatestVCSWkid(0)
Single Fused Map Cache: true
Tile Info:
- Height: 256.0
- Width: 256.0
- DPI: 96.0
-
Levels of Detail: 19
-
Level ID: 0
[ Start Tile, End Tile ]
- Resolution: 256350.38282147175
- Scale: 2.953162316427987E8
-
Level ID: 1
[ Start Tile, End Tile ]
- Resolution: 128175.19141073588
- Scale: 1.4765811582139936E8
-
Level ID: 2
[ Start Tile, End Tile ]
- Resolution: 64087.59570536794
- Scale: 7.382905791069968E7
-
Level ID: 3
[ Start Tile, End Tile ]
- Resolution: 32043.79785268397
- Scale: 3.691452895534984E7
-
Level ID: 4
[ Start Tile, End Tile ]
- Resolution: 16021.898926341984
- Scale: 1.845726447767492E7
-
Level ID: 5
[ Start Tile, End Tile ]
- Resolution: 8010.949463170992
- Scale: 9228632.23883746
-
Level ID: 6
[ Start Tile, End Tile ]
- Resolution: 4005.474731585496
- Scale: 4614316.11941873
-
Level ID: 7
[ Start Tile, End Tile ]
- Resolution: 2002.737365792748
- Scale: 2307158.059709365
-
Level ID: 8
[ Start Tile, End Tile ]
- Resolution: 1001.368682896374
- Scale: 1153579.0298546825
-
Level ID: 9
[ Start Tile, End Tile ]
- Resolution: 500.684341448187
- Scale: 576789.5149273413
-
Level ID: 10
[ Start Tile, End Tile ]
- Resolution: 250.3421707240935
- Scale: 288394.7574636706
-
Level ID: 11
[ Start Tile, End Tile ]
- Resolution: 125.17108536204675
- Scale: 144197.3787318353
-
Level ID: 12
[ Start Tile, End Tile ]
- Resolution: 62.58554268102338
- Scale: 72098.68936591766
-
Level ID: 13
[ Start Tile, End Tile ]
- Resolution: 31.29277134051169
- Scale: 36049.34468295883
-
Level ID: 14
[ Start Tile, End Tile ]
- Resolution: 15.646385670255844
- Scale: 18024.672341479414
-
Level ID: 15
[ Start Tile, End Tile ]
- Resolution: 7.823192835127922
- Scale: 9012.336170739707
-
Level ID: 16
[ Start Tile, End Tile ]
- Resolution: 3.911596417563961
- Scale: 4506.1680853698535
-
Level ID: 17
[ Start Tile, End Tile ]
- Resolution: 1.9557982087819805
- Scale: 2253.0840426849268
-
Level ID: 18
[ Start Tile, End Tile ]
- Resolution: 0.9778991043909903
- Scale: 1126.5420213424634
- Format: Mixed
- Compression Quality: 75.0
- Origin: X: -3.0516265667815052E7
Y: 1.9495025662871927E7
- Spatial Reference: 102672
(3436)
LatestVCSWkid(0)
Initial Extent:
XMin: 2351763.541511036
YMin: 1453424.7067152702
XMax: 2543321.8974869945
YMax: 1522508.189739567
Spatial Reference: 102672
(3436)
LatestVCSWkid(0)
Full Extent:
XMin: 2333041.108560499
YMin: 1436955.8549124543
XMax: 2562044.3304375317
YMax: 1538977.0415423834
Spatial Reference: 102672
(3436)
LatestVCSWkid(0)
Units: esriFeet
Supported Image Format Types: PNG32,PNG24,PNG,JPG,DIB,TIFF,EMF,PS,PDF,GIF,SVG,SVGZ,BMP
Document Info:
Title: Layers
Author:
Comments: Provides a consumer representation of parcel information that can be used with infrastructure and parcel information. The layers in the map provide context for multiple workflows, such as editing data or producing web maps. Includes structures, roads, major facilities and landmarks, water features, parcels, addresses and boundaries. This basemap uses design elements found in the General Purpose basemap but adds additional content at larger scales.
Subject: The General Purpose basemap provides context for a wide range of people and supports a variety of application needs within a local government.
Category:
Keywords: University Campus
AntialiasingMode: Fast
TextAntialiasingMode: Force
Supports Dynamic Layers: false
MaxRecordCount: 1000
MaxImageHeight: 4096
MaxImageWidth: 4096
Supported Query Formats: JSON, geoJSON, PBF
Supports Query Data Elements: true
Min Scale: 0
Max Scale: 0
Supports Datum Transformation: true
Child Resources:
Info
Supported Operations:
QueryLegends
Return Updates